BEGIN:VCALENDAR
VERSION:2.0
PRODID:-//Plone.org//NONSGML plone.app.event//EN
X-WR-TIMEZONE:Europe/Madrid
BEGIN:VEVENT
SUMMARY:La sequera a Catalunya: causes\, efectes i què podem fer?
DTSTART;TZID=Europe/Madrid:20240321T110000
DTEND;TZID=Europe/Madrid:20240321T123000
DTSTAMP:20260424T104836Z
UID:48a96756f48845079a44d80c87b9ec20@diplomasenior.eseiaat.upc.edu
CATEGORIES:conferències
CONTACT:Diploma Sènior en Ciència\, Tecnologia i Societat per a majors d
 e 55 anys\, diploma.eseiaat@upc.edu
CREATED:20161025T145400Z
LAST-MODIFIED:20240314T092924Z
LOCATION:Sala de Conferències edifici TR1\, carrer Colom 1
URL:https://diplomasenior.eseiaat.upc.edu/ca/esdeveniments/sequera
END:VEVENT
BEGIN:VTIMEZONE
TZID:Europe/Madrid
X-LIC-LOCATION:Europe/Madrid
BEGIN:STANDARD
DTSTART:20231029T020000
TZNAME:CET
TZOFFSETFROM:+0200
TZOFFSETTO:+0100
END:STANDARD
END:VTIMEZONE
END:VCALENDAR
